BEGIN:VCALENDAR
METHOD:PUBLISH
VERSION:2.0
PRODID:-//Kutyabarathelyek//Programok//EN
BEGIN:VEVENT
SUMMARY:Városi Kutyás Séta - Római Part
UID:69e7e1e9d5638
DTSTART:20240421T000000Z
DTEND:20240421T000000Z

DESCRIPTION:
    Sziasztok! Szeretettel meghívunk az 5. Városi Kutyás Sétánkra. Nagyon örülünk\, hogy egyre népszerűbbek a sétáink.&nbsp\;


    Szeretnénk nektek megmutatni Budapest minden szegletét és ezzel ötleteket adni\, hol tudtok minőségi időt tölteni a kutyátokkal a városon belül. Ez alkalommal a római-partot fedezzük fel a kutyákkal.


    Nyaranta a hely túl zsúfolt\, de ilyenkor egy kellemes sétát tehetünk a vízpart mellett. A part maximálisan baba- és kutyabarát\, a négylábú kedvenceket örömmel látják\, hiszen itt szinte minden vendéglátó helyiség kutyabarát.&nbsp\;

&nbsp\;

&nbsp\;



&nbsp\;


    Időpont: 2024.04.21. Vasárnap

Találkozópont: Újpesti vasúti híd budai hídfő

Találkozási idő: 09:45-10:00

&nbsp\;

Program:


    Indulás a találkozóponttól a római-part felfedezésére
    Sétáljunk fel a part mentén egészen a szentendrei-szigetcsúcs magasságáig és vissza\, élvezzük a vízpartot és kilátást.
    Baráti beszélgetések\, kutyabarát hangulat
    Kényelmes tempó Bármilyen és bármennyi kutyával tudsz csatlakozni\, teljesen ingyen.


&nbsp\;

Ez egy közösségi kutyás séta\, ahova minden gazdit és kutyust szeretettel várunk. Gyere el\, csatlakozz hozzánk és hozd el a négylábú társadat az 5. városi kutyás sétára!&nbsp\;


    További információ az esemény Facebook oldalán!
    
    &nbsp\;

LOCATION:Budapest Római part
END:VEVENT
END:VCALENDAR