BEGIN:VCALENDAR
METHOD:PUBLISH
VERSION:2.0
PRODID:-//Kutyabarathelyek//Programok//EN
BEGIN:VEVENT
SUMMARY:Vérebes találkozó Baranyában - Elő- és VAV vizsga
UID:69e9ea6ff289d
DTSTART:20160427T000000Z

URL;VALUE=URI:http://www.verebegylet.hu/
DESCRIPTION:A baranyai körzeti nap időpontja április 27 (szerda). A találkozó helyszíne Hosszúhetény\, Hotel Kövestető\, az időpont 14 óra. A délutáni programban Elővizsga és VAV &ndash\;vizsga\, is szerepel. A vizsgák végeztével egy Író &ndash\;Olvasó találkozó címén két egyleti tagtársunkkal beszélgetünk. Jung Jenő és Zilai János a közelmúltban jelentették meg nagysikerű köteteiket\, melyek pillanatok alatt minden vadászkönyv eladási lista élére kerültek. A szerzők az indíttatásról\, a könyvek fogadtatásáról\, az olvasók reakcióiról mesélnek majd. A nap végén vacsora várja a vérebeseket\, a Kisújbányai vadászházban. &nbsp\;&nbsp\;

LOCATION:Hosszúhetény 
END:VEVENT
END:VCALENDAR