BEGIN:VCALENDAR
METHOD:PUBLISH
VERSION:2.0
PRODID:-//Kutyabarathelyek//Programok//EN
BEGIN:VEVENT
SUMMARY:VI. Rendőr- és Tűzoltó Nap - Szolgálati kutyasimogatás a Gyermekudvaron
UID:69eb054cc7902
DTSTART:20160423T000000Z


DESCRIPTION:Különleges program a&nbsp\;VI. Rendőr- és Tűzoltó Napon: a Gyermekudvaron szolgálati kutyasimogató lesz a sok színes program mellett! Az egyéb programokat keresd a&nbsp\;VI. Rendőr- és Tűzoltó Nap Facebook eseményénél a lent megadott linken!

&nbsp\;

Részletek a plakáton:

&nbsp\;



LOCATION:Budapest 
END:VEVENT
END:VCALENDAR