BEGIN:VCALENDAR
METHOD:PUBLISH
VERSION:2.0
PRODID:-//Kutyabarathelyek//Programok//EN
BEGIN:VEVENT
SUMMARY:VIII.Hivatalos Tacskó Találkozó
UID:69ea90d68b08b
DTSTART:20220827T000000Z
DTEND:20220827T000000Z
URL;VALUE=URI:https://www.facebook.com/tacskotalalkozohun/
DESCRIPTION:&nbsp\;

&nbsp\;



&nbsp\;


    Kedves Barátaink\,


    Az idei évben is megrendezzük a Hivatalos Tacskó Találkozót\, immár nyolcadik alkalommal\, melynek időpontja 2022. augusztus 27.&nbsp\;


    Ezúton szeretnénk megköszönni a Gödöllői Önkormányzat támogatását\, mivel ismételten lehetőséget biztosítottak a számunkra\, hogy egy festői környezetben bonyolíthassuk le az összejövetelünket!


    Természetesen\, mint mindig\, a Futrinka Egyesület Tacskó Fajtamentése számára fogunk gyűjteni\, hogy továbbra is segítsük az áldásos tevékenységüket!


    Nektek külön köszönjük\, hogy egész évben velünk vagytok! A TacsiTali alkalmával végre személyesen is találkozhatunk!&nbsp\;


    Ismételten színes programokkal és újdonságokkal várjuk két és négy lábú barátainkat egyaránt!&nbsp\; 


    Legyetek kedvesek\, segítsétek a munkánkat azzal\, hogy a Facebook eseményből tájékozódtok\, melyben minden részlettel kapcsolatban időben értesíteni fogunk Benneteket!


    Ezen kívül nagyon hálásak leszünk\, ha Ti is hozzájárultok egy-egy megosztással ahhoz\, hogy minden állatbarát értesülhessen a programról!


    Amennyiben szeretnétek támogatni jótékonysági rendezvényünket bármilyen felajánlással\,keressetek bizalommal a felajanlas.tt@gmail.com e-mail címen.


    Ha szeretnél a TT csapatához tartozni és rendezvényünkön segíteni írj levelet a tacskotalalkozo@gmail.com e-mail címre.

&nbsp\;


    Maradunk tisztelettel Felétek\,


    a Hivatalos Tacskó Találkozó Stábja nevében\,
    Paluska Péter főszervező\,ötletgazda


    A RENDEZVÉNY INGYENES!
    
    
    &nbsp\;

LOCATION:Gödöllő 
END:VEVENT
END:VCALENDAR