BEGIN:VCALENDAR
METHOD:PUBLISH
VERSION:2.0
PRODID:-//Kutyabarathelyek//Programok//EN
BEGIN:VEVENT
SUMMARY:VizslaKalandorok - Nyári Weekend - Kemence
UID:69e796eea00cb
DTSTART:20180611T000000Z
DTEND:20180617T000000Z
URL;VALUE=URI:https://vizslakalandorok.hu/?kaland_nyari_weekend_-_kemence&amp\;weekend
DESCRIPTION:&nbsp\;

7 napos\, 6 éjszakás Vizsla Weekendre hívunk minden vizslát\, &nbsp\;gazdájával együtt.&nbsp\;Ezúttal nyáron a Börzsönybe\, Kemencére látogatunk.

&nbsp\;

2018. június 11 - június 17.

&nbsp\;

Szálláshely:
    PANZIÓ:&nbsp\;&nbsp\;MEGTELT!!!
    Kőrózsa Panzió.
    2638 Kemence\, Nagyvölgy út.
    2800/fő/éj + IFA + 1.000 Ft/kutya/weekend.

&nbsp\;

FAHÁZAK&nbsp\;mely gyalog 10 percre van a panziótól:&nbsp\;2x2 ágyas (emeletes ágyas)

Szállásdíj: 1875 Ft./fő/éj + IFA
    Elhelyezés 4 ágyas faházakban\, a vizes blokk és a mini konyha külön épületben található.
    &nbsp\;

SÁTOROZÁS:&nbsp\;Ifjusági tábor\, mely gyalog 10 percre van a panziótól.

Szállásdíj: 900&nbsp\;Ft./fő/éj + IFA
    Vizes blokk és mini konyha külön épületben található.
    &nbsp\;

Szállásfoglalás mindhárom esetben a&nbsp\;VizslaKalandorok weboldalán.
    Mindhárom&nbsp\;&nbsp\;szállásfoglalás esetén 5.000 Ft./fő foglalót előre szükséges utalni.

A részvételi hozzájárulás 1.000 Ft/fő/weekend. Köszönjük\, hogy hozzájárulásoddal támogatod tevékenységünket.

&nbsp\;




    Leírás:
    Kemence község a Börzsöny hegység nyugati oldalán\, az Ipoly völgyének alsó részén\, a szlovák határ közelében helyezkedik el\, Budapesttől mintegy 90 kilométerre. A jelenleg Pest megyéhez tartozó\, 1174 lelkes település a XVIII. században Hont vármegye székhelye is volt\, jelenleg a környék egyik első számú turisztikai központja. A Kőrózsa Panzió Kemence község belterületének határán\, a börzsönyi tájvédelmi körzet szomszédságában található\, a Kemencét Diósjenővel összekötő &nbsp\; út mentén. A pár méterre lévő Kemence-patak csobogása fogadja az idelátogatót. A patak két oldalán több mint 6 hektár ligetes\, gondozott területen sétálhat a pihenni\, kirándulni vágyó vendégeink. A sportolni vágyók focizhatnak ezen a területen.&nbsp\;

Fedett terasz\, mely kiválóan alkalmas rossz idő esetén is családi valamint csoportfoglalkozások megtartására.&nbsp\;

&nbsp\;

&nbsp\;


Részletes program a VizslaKalandorok honlapján olvasható\, ide kattintva.&nbsp\;


&nbsp\;



&nbsp\;

&nbsp\;

&nbsp\;

LOCATION:Kemence Nagyvölgy út
END:VEVENT
END:VCALENDAR