BEGIN:VCALENDAR
METHOD:PUBLISH
VERSION:2.0
PRODID:-//Kutyabarathelyek//Programok//EN
BEGIN:VEVENT
SUMMARY:WUSV közös válogató verseny 2024
UID:69e7bf79ad053
DTSTART:20240413T000000Z
DTEND:20240414T000000Z

DESCRIPTION:
    A MEOESZ/HNJE és az MNJK közös válogató versenyt rendez.


    ***IGP1\, IGP2\, IGP3 szinten is lehet nevezni.***

&nbsp\;

Bírók:
    A - Pityinger József &amp\; ...
    B - Kivágó Arnold &amp\; Vörös Lajos
    C - Benke András &amp\; Mészáros Máté

&nbsp\;

Segédek:
    1. Takács Krisztián
    2. Rácz Attila

&nbsp\;

Nyomfektetők: Tóth Ferenc\, Szijjártó Norbert\, Szikora Tamás
    Nyom koordinátor: Tóth-Horváth Brigitta
    Nyomterület: szántás (száraz\, homokosabb\, néhol rögösebb\, poros területre lehet készülni a régióban) - képek március közepén

&nbsp\;

1. nevezési határidő: 2024.04.01. - nevezési díj: 20.000 Ft
    2. nevezési határidő: 2024.04.08. - nevezési díj: 25.000 Ft

&nbsp\;

További információ az esemény Facebook-oldalán!

&nbsp\;

&nbsp\;




    &nbsp\;

LOCATION:Tápiószentmárton Sőregi út 1.
END:VEVENT
END:VCALENDAR