BEGIN:VCALENDAR
METHOD:PUBLISH
VERSION:2.0
PRODID:-//Kutyabarathelyek//Programok//EN
BEGIN:VEVENT
SUMMARY:XIII. „Berényi” IRO Mentőkutya Vizsga és Verseny
UID:69e59bd51c364
DTSTART:20181019T000000Z
DTEND:20181021T000000Z

DESCRIPTION:&nbsp\;



&nbsp\;


    2018. október 19-21. között immár 13. alkalommal kerül megrendezésre Jászberényben a &quot\;Berényi&quot\; IRO Mentőkutya Vizsga és Verseny\, mely a Kutyákkal az Életért Alapítvány szervezésében\, a borsóhalmi úti Mentőkutya Kiképző Bázison zajlik majd.&nbsp\;


    A vizsgafázisok - amelyekre nevezni lehet - az eddig megszokotthoz hasonlóan:


    területkutatás\,&nbsp\;
    romkutatás\,
    nyomkövetés\,


mindhárom fázisban alkalmassági (E)\, alap- (A) és emeltszint (B).&nbsp\;


    A megmérettetésen neves nemzetközi bírók értékelik majd a munkákat:&nbsp\;


    Jerneja Ternovec Szlovéniából\,&nbsp\;
    Kurt Schafar Ausztriából és&nbsp\;
    Květoslav Štibora Csehországból osztogatja (vagy sem) a pontokat.


A verseny nevezési határideje: szeptember 15.
    
    
    További információ a nevezésről az esemény Facebook oldalán\, ide kattintva.
    
    Minden leendő versenyzőnek eredményes felkészülést kívánunk\, az érdeklődőket pedig szeretettel várjuk!

&nbsp\;


    &nbsp\;

LOCATION:Jászberény Borsóhalmi út
END:VEVENT
END:VCALENDAR