BEGIN:VCALENDAR
METHOD:PUBLISH
VERSION:2.0
PRODID:-//Kutyabarathelyek//Programok//EN
BEGIN:VEVENT
SUMMARY:Zoodom Dog Day 2016. Campona
UID:69e7a8b8a429c
DTSTART:20160522T000000Z


DESCRIPTION:Esőnap: május 29.
    Program terv:
    - 10. 00- 11. 00. Jelentkezés a szépségversenyre\,
    - 11. 00. &ndash\; 14. 00. Kutya szépség és ügyességi verseny&nbsp\;
    Ingyenes nevezés a helyszínen!
    Minden nevező Zoodom ajándék kupont kap!&nbsp\;
    - 14. 00 &ndash\; 14. 30. Kutyás bemutató
    - 14. 30 &ndash\; Tombola sorsolás\, eredményhirdetés&nbsp\;
    Egész nap:
    - Zoodom felszerelés\, eledel és kiegészítő vásár extra akciókkal a helyszínen
    - Westie Rescue Hungary jótékonyági vásár&nbsp\;
    - Jótékonysági kutya-gazdi fotózás
    - Táplálási\, etetési szaktanácsadás&nbsp\;
    - Kutyakiképzési és nevelési tanácsok
    Részletekért kövesd az eseményt!

LOCATION:Budapest Nagytétényi út 37
END:VEVENT
END:VCALENDAR